BEGIN:VCALENDAR
VERSION:2.0
PRODID:-//Tukios.com/
BEGIN:VEVENT
UID:869da46a-9c28-4d39-9888-102cf471c44f@www.reevesfuneralhomes.com
DTSTAMP:20260420T214310Z
DTSTART:20260501T160000Z
DTEND:20260501T180000Z
SUMMARY:Memorial Service
DESCRIPTION:
URL:https://www.reevesfuneralhomes.com/obituaries/beverly-hooper
LOCATION: 700 East Kahler Road  Wilmington IL 60481
GEO:41.2988878;-88.1350528
END:VEVENT
END:VCALENDAR