BEGIN:VCALENDAR
VERSION:2.0
PRODID:-//Tukios.com/
BEGIN:VEVENT
UID:2181f8e1-ec4f-406c-8a78-451fcfe5c69a@www.reevesfuneralhomes.com
DTSTAMP:20260420T214725Z
DTSTART:20260501T180000Z
DTEND:20260501T183000Z
SUMMARY:Memorial Service
DESCRIPTION:
URL:https://www.reevesfuneralhomes.com/obituaries/beverly-hooper
LOCATION: 700 East Kahler Road  Wilmington IL 60481
GEO:41.2988878;-88.1350528
END:VEVENT
END:VCALENDAR