BEGIN:VCALENDAR
VERSION:2.0
PRODID:-//Tukios.com/
BEGIN:VEVENT
UID:984cd9bb-5605-41c8-a038-8c07fb0cd599@www.reevesfuneralhomes.com
DTSTAMP:20260420T214746Z
DTSTART:20260501T194500Z
DTEND:20260501T201500Z
SUMMARY:Graveside Service
DESCRIPTION:
URL:https://www.reevesfuneralhomes.com/obituaries/beverly-hooper
LOCATION: 700 East Kahler Road  Wilmington IL 60481
GEO:41.2988878;-88.1350528
END:VEVENT
END:VCALENDAR