BEGIN:VCALENDAR
VERSION:2.0
PRODID:-//Tukios.com/
BEGIN:VEVENT
UID:4c242128-5595-4645-98d4-8844ffdfc11c@www.reevesfuneralhomes.com
DTSTAMP:20260425T020344Z
DTSTART:20260501T133000Z
DTEND:20260501T140000Z
SUMMARY:Memorial Gathering
DESCRIPTION:
URL:https://www.reevesfuneralhomes.com/obituaries/david-ahlquist-jr
LOCATION: 75 North Broadway  Coal City IL 60416
GEO:41.288635;-88.2851426
END:VEVENT
END:VCALENDAR