BEGIN:VCALENDAR
VERSION:2.0
PRODID:-//Tukios.com/
BEGIN:VEVENT
UID:6757ce4d-3d55-4b82-bde5-251eaf99fa53@www.reevesfuneralhomes.com
DTSTAMP:20260425T020127Z
DTSTART:20260501T140000Z
DTEND:20260501T150000Z
SUMMARY:Funeral Procession
DESCRIPTION:
URL:https://www.reevesfuneralhomes.com/obituaries/david-ahlquist-jr
LOCATION: 75 North Broadway  Coal City IL 60416
GEO:41.288635;-88.2851426
END:VEVENT
END:VCALENDAR