BEGIN:VCALENDAR
VERSION:2.0
PRODID:-//Tukios.com/
BEGIN:VEVENT
UID:18943c8c-baaa-45bf-84b4-011318e16023@www.reevesfuneralhomes.com
DTSTAMP:20260425T020220Z
DTSTART:20260501T150000Z
DTEND:20260501T153000Z
SUMMARY:Inurnment
DESCRIPTION:
URL:https://www.reevesfuneralhomes.com/obituaries/david-ahlquist-jr
LOCATION: 20953 W Hoff Rd  Elwood IL 60421
GEO:41.3879739;-88.1245668
END:VEVENT
END:VCALENDAR