BEGIN:VCALENDAR
VERSION:2.0
PRODID:-//Tukios.com/
BEGIN:VEVENT
UID:b730df8c-af65-416b-abe8-da7eafd3224f@www.reevesfuneralhomes.com
DTSTAMP:20260421T171554Z
DTSTART:20260425T190000Z
DTEND:20260425T210000Z
SUMMARY:Memorial Visitation
DESCRIPTION:
URL:https://www.reevesfuneralhomes.com/obituaries/thomas-henderson
LOCATION: 121 W Jefferson St  Morris IL 60450
GEO:41.358873;-88.42473
END:VEVENT
END:VCALENDAR