BEGIN:VCALENDAR
VERSION:2.0
PRODID:-//Tukios.com/
BEGIN:VEVENT
UID:01a850c9-61fc-445e-8820-5308cd66b025@www.reevesfuneralhomes.com
DTSTAMP:20260421T171517Z
DTSTART:20260425T210000Z
DTEND:20260425T220000Z
SUMMARY:Memorial Service
DESCRIPTION:
URL:https://www.reevesfuneralhomes.com/obituaries/thomas-henderson
LOCATION: 121 W Jefferson St  Morris IL 60450
GEO:41.358873;-88.42473
END:VEVENT
END:VCALENDAR