BEGIN:VCALENDAR
VERSION:2.0
PRODID:-//Tukios.com/
BEGIN:VEVENT
UID:b803a81d-6503-4827-81d1-24a181dcd56e@www.reevesfuneralhomes.com
DTSTAMP:20260422T234709Z
DTSTART:20260503T190000Z
DTEND:20260503T210000Z
SUMMARY:Visitation
DESCRIPTION:
URL:https://www.reevesfuneralhomes.com/obituaries/warren-hatteberg
LOCATION: 14381 W Joliet Rd  Newark IL 60541
GEO:41.4758985;-88.5285607
END:VEVENT
END:VCALENDAR