BEGIN:VCALENDAR
VERSION:2.0
PRODID:-//Tukios.com/
BEGIN:VEVENT
UID:ba5c97e3-3222-4b7c-8ca8-58e2743d35f6@www.reevesfuneralhomes.com
DTSTAMP:20260422T234835Z
DTSTART:20260503T214500Z
DTEND:20260503T223000Z
SUMMARY:Burial
DESCRIPTION:
URL:https://www.reevesfuneralhomes.com/obituaries/warren-hatteberg
LOCATION:West Lisbon Cemetery 14381 Joliet Road  Newark IL 60541
GEO:41.4758985;-88.5285607
END:VEVENT
END:VCALENDAR