BEGIN:VCALENDAR
VERSION:2.0
PRODID:-//Tukios.com/
BEGIN:VEVENT
UID:77c92646-6629-4784-a021-aa80cc6e690c@www.reevesfuneralhomes.com
DTSTAMP:20260422T234514Z
DTSTART:20260503T210000Z
DTEND:20260503T213000Z
SUMMARY:Funeral Service
DESCRIPTION:
URL:https://www.reevesfuneralhomes.com/obituaries/warren-hatteberg
LOCATION: 14381 W Joliet Rd  Newark IL 60541
GEO:41.4758985;-88.5285607
END:VEVENT
END:VCALENDAR